BEGIN:VCALENDAR
VERSION:2.0
PRODID:-//Golf Club Abenberg - ECPv6.1.3//NONSGML v1.0//EN
CALSCALE:GREGORIAN
METHOD:PUBLISH
X-WR-CALNAME:Golf Club Abenberg
X-ORIGINAL-URL:https://golfclubabenberg.de
X-WR-CALDESC:Veranstaltungen für Golf Club Abenberg
REFRESH-INTERVAL;VALUE=DURATION:PT1H
X-Robots-Tag:noindex
X-PUBLISHED-TTL:PT1H
BEGIN:VTIMEZONE
TZID:Europe/Berlin
BEGIN:DAYLIGHT
TZOFFSETFROM:+0100
TZOFFSETTO:+0200
TZNAME:CEST
DTSTART:20200329T010000
END:DAYLIGHT
BEGIN:STANDARD
TZOFFSETFROM:+0200
TZOFFSETTO:+0100
TZNAME:CET
DTSTART:20201025T010000
END:STANDARD
END:VTIMEZONE
BEGIN:VEVENT
DTSTART;TZID=Europe/Berlin:20201011T090000
DTEND;TZID=Europe/Berlin:20201011T170000
DTSTAMP:20260421T113213
CREATED:20201006T102509Z
LAST-MODIFIED:20201006T102509Z
UID:15669-1602406800-1602435600@golfclubabenberg.de
SUMMARY:Monatspreis – Finale Tee 1
DESCRIPTION:
URL:https://golfclubabenberg.de/index.php/event/monatspreis-finale-tee-1/
LOCATION:Golfclub Abenberg\, Am Golfplatz 19\, Abenberg\, Bayern\, 91183\, Deutschland
END:VEVENT
END:VCALENDAR